BEGIN:VCALENDAR
PRODID:-//eluceo/ical//2.0/EN
VERSION:2.0
CALSCALE:GREGORIAN
BEGIN:VEVENT
UID:7b71e5efcdfcb7672c7d549597fca694
DTSTAMP:20260420T093445Z
SUMMARY:Le GustoRallye du Rotary
DESCRIPTION:Site internet: http://plombieres-welkenraedt.rotary2160.org
URL:https://plombieres-welkenraedt.rotary2160.org/fr/agenda/show/95989
DTSTART;TZID=Europe/Zurich:20260426T083000
DTEND;TZID=Europe/Zurich:20260426T200000
LOCATION:L'Enclume\, chemin du Duc\, 7 - 4840 Welkenraedt
CATEGORIES:Rotary
END:VEVENT
BEGIN:VTIMEZONE
TZID:Europe/Zurich
BEGIN:DAYLIGHT
DTSTART:20260426T083000
TZNAME:CEST
TZOFFSETTO:+0200
TZOFFSETFROM:+0200
END:DAYLIGHT
END:VTIMEZONE
END:VCALENDAR
